BEGIN:VCALENDAR
VERSION:2.0
PRODID:-//ExpressionEngine Easy iCalendar plugin//NONSGML v2.0.1//EN
X-WR-TIMEZONE:America/New_York
X-WR-CALNAME:Upcoming Auctions
BEGIN:VEVENT
UID:50232
DTSTAMP:20260423T091010
DTSTART:20260423T091010
DTEND:20260423T091010
SUMMARY:Fixer Upper in Branchburg\, NJ - Coming Soon!
LOCATION:Branchburg NJ
DESCRIPTION:COMING SOON!\n\nBy Order of Branchburg Township
URL:http://www.maxspann.comauctions/detail/fixer-upper-in-branch
 burg-nj
SEQUENCE:1
END:VEVENT
END:VCALENDAR