BEGIN:VCALENDAR
VERSION:2.0
PRODID:-//ExpressionEngine Easy iCalendar plugin//NONSGML v2.0.1//EN
X-WR-TIMEZONE:America/New_York
X-WR-CALNAME:Upcoming Auctions
BEGIN:VEVENT
UID:49191
DTSTAMP:20260424T114330
DTSTART:20260424T114330
DTEND:20260424T114330
SUMMARY:Prime Residential Opportunity in Cresskill\, Bergen County\, N
 J
LOCATION:21 Cedar St\, Cresskill Borough\, Bergen County\, NJ 07626
DESCRIPTION:New Auction Date to be Announced\n\nBy Order of the New Jersey
  Superior Court
URL:http://www.maxspann.comauctions/detail/prime-residential-opp
 ortunity-in-cresskill-bergen-county-nj
SEQUENCE:1
END:VEVENT
END:VCALENDAR